BEGIN:VCALENDAR
VERSION:2.0
PRODID:-//Aphrodites - ECPv6.5.1.4//NONSGML v1.0//EN
CALSCALE:GREGORIAN
METHOD:PUBLISH
X-ORIGINAL-URL:https://www.aphrodites.ch
X-WR-CALDESC:évènements pour Aphrodites
REFRESH-INTERVAL;VALUE=DURATION:PT1H
X-Robots-Tag:noindex
X-PUBLISHED-TTL:PT1H
BEGIN:VTIMEZONE
TZID:Europe/Zurich
BEGIN:DAYLIGHT
TZOFFSETFROM:+0100
TZOFFSETTO:+0200
TZNAME:CEST
DTSTART:20220327T010000
END:DAYLIGHT
BEGIN:STANDARD
TZOFFSETFROM:+0200
TZOFFSETTO:+0100
TZNAME:CET
DTSTART:20221030T010000
END:STANDARD
END:VTIMEZONE
BEGIN:VEVENT
DTSTART;TZID=Europe/Zurich:20221122T203000
DTEND;TZID=Europe/Zurich:20221122T213000
DTSTAMP:20260425T185431
CREATED:20220711T165513Z
LAST-MODIFIED:20220711T165513Z
UID:29730-1669149000-1669152600@www.aphrodites.ch
SUMMARY:Cours UNIL
DESCRIPTION:Introduction à la méthode Divine 9 Dance Theory dans le cadre des sports universitaires de Lausanne. \nPlusieurs cours de danse orientale sont donnés aux sports universitaire. Je donne celui du mardi soir\, de 20:30 à 21:30. \nPlus d’informations et inscriptions : https://sport.unil.ch/?mid=90&aid=165
URL:https://www.aphrodites.ch/evenement/cours-unil-29/
LOCATION:UNIL\, SOS1-Salle Claude Bucher\, Lausanne\, Suisse
CATEGORIES:Cours régulier
END:VEVENT
END:VCALENDAR