BEGIN:VCALENDAR
VERSION:2.0
PRODID:-//Aphrodites - ECPv6.5.1.4//NONSGML v1.0//EN
CALSCALE:GREGORIAN
METHOD:PUBLISH
X-ORIGINAL-URL:https://www.aphrodites.ch
X-WR-CALDESC:évènements pour Aphrodites
REFRESH-INTERVAL;VALUE=DURATION:PT1H
X-Robots-Tag:noindex
X-PUBLISHED-TTL:PT1H
BEGIN:VTIMEZONE
TZID:Europe/Zurich
BEGIN:DAYLIGHT
TZOFFSETFROM:+0100
TZOFFSETTO:+0200
TZNAME:CEST
DTSTART:20230326T010000
END:DAYLIGHT
BEGIN:STANDARD
TZOFFSETFROM:+0200
TZOFFSETTO:+0100
TZNAME:CET
DTSTART:20231029T010000
END:STANDARD
END:VTIMEZONE
BEGIN:VEVENT
DTSTART;TZID=Europe/Zurich:20231116T191500
DTEND;TZID=Europe/Zurich:20231116T211500
DTSTAMP:20260425T053100
CREATED:20230612T082633Z
LAST-MODIFIED:20230925T195006Z
UID:29865-1700162100-1700169300@www.aphrodites.ch
SUMMARY:Stage régulier -  Le syndrome de l'imposteur
DESCRIPTION:Le syndrome de l’imposteur \nQu’est-ce que ce fameux syndrome de l’imposteur ? Si vous répondez oui à l’une ou plusieurs de ces affirmations\, cela pourrait vous intéresser… \n– est-ce que j’attribue mon succès à la chance\, au timing\, ou à une erreur ?\n– est-ce que je pense « si je peux le faire\, tout le monde peut le faire ? »\n– est-ce que j’agonise sur la moindre petite erreur dans mon travail ?\n– est-ce que je suis très touchée par les critiques\, même constructives\, les voyant comme des preuves de mon incompétence ?\n– lorsque je réussis\, est-ce que je me dis intérieurement « j’ai de nouveau réussi à les tromper » ?\n– est-ce que je m’inquiète\, « il ne s’agit que d’une question de temps avant que je ne sois démasquée » ? \nNous prendrons le temps d’aborder quelques aspects de ce thème\, et plus particulièrement d’expérimenter comment les mouvements permettent de déconstruire\, pierre après pierre\, les schémas destructeurs associés. \n\nCes moments de danse s’adressent aux femmes qui souhaitent… \n…se reconnecter à leur corps \n…explorer et élargie le spectre de leur féminité \n…découvrir et nourrir leur lien aux femmes \nIls ont lieux chaque troisième jeudi du mois et sont ouverts à toute femme intéressée\, ayant déjà dansé ou non. \n  \nInscription nécessaire\, au moins une semaine à l’avance. En cas de désistement\, à annoncer au moins 24h à l’avance. Le cours peut être annulé s’il n’y a pas assez d’inscription. \nTarif : 40.- par session\, 32.- prix mini (étudiante\, AVS\, chômage\, …) \nHoraire : 19h15-21h15 (2h)\, espace ouvert dès 19h00
URL:https://www.aphrodites.ch/evenement/stage-regulier-palezieux-13/
LOCATION:Espace Sésame\, Rue de la Gare 8\, Palézieux\, Vaud\, 1607\, Switzerland
CATEGORIES:Cours régulier
END:VEVENT
END:VCALENDAR