BEGIN:VCALENDAR
VERSION:2.0
PRODID:-//Aphrodites - ECPv6.5.1.4//NONSGML v1.0//EN
CALSCALE:GREGORIAN
METHOD:PUBLISH
X-ORIGINAL-URL:https://www.aphrodites.ch
X-WR-CALDESC:évènements pour Aphrodites
REFRESH-INTERVAL;VALUE=DURATION:PT1H
X-Robots-Tag:noindex
X-PUBLISHED-TTL:PT1H
BEGIN:VTIMEZONE
TZID:Europe/Zurich
BEGIN:DAYLIGHT
TZOFFSETFROM:+0100
TZOFFSETTO:+0200
TZNAME:CEST
DTSTART:20230326T010000
END:DAYLIGHT
BEGIN:STANDARD
TZOFFSETFROM:+0200
TZOFFSETTO:+0100
TZNAME:CET
DTSTART:20231029T010000
END:STANDARD
END:VTIMEZONE
BEGIN:VEVENT
DTSTART;TZID=Europe/Zurich:20231019T191500
DTEND;TZID=Europe/Zurich:20231019T211500
DTSTAMP:20260425T035526
CREATED:20230612T082514Z
LAST-MODIFIED:20230925T194932Z
UID:29862-1697742900-1697750100@www.aphrodites.ch
SUMMARY:Stage régulier - Ecouter sa voix intérieur
DESCRIPTION:Ecouter sa voix intérieur – développer son intuition \nQue la décision soit « petite » ou de grande importance\, qu’elle ait un impact énorme ou apparemment mince\, parfois on se sent perdue\, sans savoir quoi faire ni qui écouter. De nos multiples avis intérieurs aux différents jugements et attentes extérieures… quelle direction prendre ? Comment savoir ? \nÀ partir du corps et à travers le mouvement\, nous explorons plusieurs pistes pour accorder plus de place à notre intuition et trouver la décision qui nous convient le mieux\, en cet instant. \n\nCes moments de danse s’adressent aux femmes qui souhaitent… \n…se reconnecter à leur corps \n…explorer et élargie le spectre de leur féminité \n…découvrir et nourrir leur lien aux femmes \nIls ont lieux chaque troisième jeudi du mois et sont ouverts à toute femme intéressée\, ayant déjà dansé ou non. \n  \nInscription nécessaire\, au moins une semaine à l’avance. En cas de désistement\, à annoncer au moins 24h à l’avance. Le cours peut être annulé s’il n’y a pas assez d’inscription. \nTarif : 40.- par session\, 32.- prix mini (étudiante\, AVS\, chômage\, …) \nHoraire : 19h15-21h15 (2h)\, espace ouvert dès 19h00
URL:https://www.aphrodites.ch/evenement/stage-regulier-palezieux-12/
LOCATION:Espace Sésame\, Rue de la Gare 8\, Palézieux\, Vaud\, 1607\, Switzerland
CATEGORIES:Cours régulier
END:VEVENT
END:VCALENDAR